BEGIN:VCALENDAR
VERSION:2.0
PRODID:-//https://executive.act242.com///NONSGML kigkonsult.se iCalcreator 2.10.15//
METHOD:PUBLISH
BEGIN:VEVENT
UID:20260420T112959UTC-0793n4l4R7@https://executive.act242.com/
DTSTAMP:20260420T112959Z
DESCRIPTION:Roaring Twenties Dinner and Dance\nMore information to follow. 
 https://executive.act242.com/index.php/events-calendar/event/3-roaring-twe
 nties-dinner
DTSTART:20260417T173000Z
DTEND:20260417T213000Z
LOCATION:Country Club of Landfall ()
SUMMARY:Roaring Twenties Dinner
URL:https://executive.act242.com/index.php/events-calendar/event/3-roaring-
 twenties-dinner
END:VEVENT
END:VCALENDAR
